BEGIN:VCALENDAR
VERSION:2.0
PRODID:-//SAVE OUR YOUTH - ECPv6.15.20//NONSGML v1.0//EN
CALSCALE:GREGORIAN
METHOD:PUBLISH
X-WR-CALNAME:SAVE OUR YOUTH
X-ORIGINAL-URL:https://save-our-youth.org
X-WR-CALDESC:Events for SAVE OUR YOUTH
REFRESH-INTERVAL;VALUE=DURATION:PT1H
X-Robots-Tag:noindex
X-PUBLISHED-TTL:PT1H
BEGIN:VTIMEZONE
TZID:UTC
BEGIN:STANDARD
TZOFFSETFROM:+0000
TZOFFSETTO:+0000
TZNAME:UTC
DTSTART:20230101T000000
END:STANDARD
END:VTIMEZONE
BEGIN:VTIMEZONE
TZID:America/Los_Angeles
BEGIN:DAYLIGHT
TZOFFSETFROM:-0800
TZOFFSETTO:-0700
TZNAME:PDT
DTSTART:20240310T100000
END:DAYLIGHT
BEGIN:STANDARD
TZOFFSETFROM:-0700
TZOFFSETTO:-0800
TZNAME:PST
DTSTART:20241103T090000
END:STANDARD
BEGIN:DAYLIGHT
TZOFFSETFROM:-0800
TZOFFSETTO:-0700
TZNAME:PDT
DTSTART:20250309T100000
END:DAYLIGHT
BEGIN:STANDARD
TZOFFSETFROM:-0700
TZOFFSETTO:-0800
TZNAME:PST
DTSTART:20251102T090000
END:STANDARD
BEGIN:DAYLIGHT
TZOFFSETFROM:-0800
TZOFFSETTO:-0700
TZNAME:PDT
DTSTART:20260308T100000
END:DAYLIGHT
BEGIN:STANDARD
TZOFFSETFROM:-0700
TZOFFSETTO:-0800
TZNAME:PST
DTSTART:20261101T090000
END:STANDARD
END:VTIMEZONE
BEGIN:VEVENT
DTSTART;TZID=UTC:20250220T080000
DTEND;TZID=UTC:20250220T150000
DTSTAMP:20260423T165256
CREATED:20250110T214343Z
LAST-MODIFIED:20250110T214500Z
UID:6863-1740038400-1740063600@save-our-youth.org
SUMMARY:UC San Diego College Tour
DESCRIPTION:
URL:https://save-our-youth.org/event/uc-san-diego-college-tour/
CATEGORIES:Student Events
ATTACH;FMTTYPE=image/png:https://save-our-youth.org/wp-content/uploads/2025/01/Screenshot-2025-01-10-at-1.39.41 PM.png
END:VEVENT
BEGIN:VEVENT
DTSTART;TZID=America/Los_Angeles:20250219T100000
DTEND;TZID=America/Los_Angeles:20250219T140000
DTSTAMP:20260423T165256
CREATED:20250110T214207Z
LAST-MODIFIED:20250110T214231Z
UID:6860-1739959200-1739973600@save-our-youth.org
SUMMARY:Cal Poly Pomona Tour
DESCRIPTION:
URL:https://save-our-youth.org/event/cal-poly-pomona-tour/
CATEGORIES:Student Events
ATTACH;FMTTYPE=image/png:https://save-our-youth.org/wp-content/uploads/2025/01/Screenshot-2025-01-10-at-1.39.41 PM.png
END:VEVENT
BEGIN:VEVENT
DTSTART;TZID=UTC:20250218T093000
DTEND;TZID=UTC:20250218T140000
DTSTAMP:20260423T165256
CREATED:20250128T194913Z
LAST-MODIFIED:20250128T194913Z
UID:6895-1739871000-1739887200@save-our-youth.org
SUMMARY:Mesa Water Education Center: Career Day Retreat
DESCRIPTION:
URL:https://save-our-youth.org/event/mesa-water-education-center-career-day-retreat/
CATEGORIES:Student Events
ATTACH;FMTTYPE=image/jpeg:https://save-our-youth.org/wp-content/uploads/2025/01/MWEC-Retreat.jpeg
END:VEVENT
BEGIN:VEVENT
DTSTART;TZID=UTC:20250210T173000
DTEND;TZID=UTC:20250210T190000
DTSTAMP:20260423T165256
CREATED:20250203T202504Z
LAST-MODIFIED:20250203T202736Z
UID:6907-1739208600-1739214000@save-our-youth.org
SUMMARY:SOY Youth Council Leadership Academy: Session #2
DESCRIPTION:
URL:https://save-our-youth.org/event/soy-youth-council-leadership-academy-session-2/
CATEGORIES:Student Events
ATTACH;FMTTYPE=image/png:https://save-our-youth.org/wp-content/uploads/2025/02/Screenshot-2025-02-03-at-11.45.41 AM.png
END:VEVENT
BEGIN:VEVENT
DTSTART;TZID=UTC:20250203T173000
DTEND;TZID=UTC:20250203T190000
DTSTAMP:20260423T165256
CREATED:20250203T203432Z
LAST-MODIFIED:20250203T203432Z
UID:6912-1738603800-1738609200@save-our-youth.org
SUMMARY:SOY Youth Council Leadership Academy: Session #1
DESCRIPTION:
URL:https://save-our-youth.org/event/soy-youth-council-leadership-academy-session-1-2/
CATEGORIES:Student Events
ATTACH;FMTTYPE=image/png:https://save-our-youth.org/wp-content/uploads/2025/02/Screenshot-2025-02-03-at-11.45.41 AM.png
END:VEVENT
BEGIN:VEVENT
DTSTART;TZID=UTC:20250203T173000
DTEND;TZID=UTC:20250203T190000
DTSTAMP:20260423T165256
CREATED:20250203T202333Z
LAST-MODIFIED:20250203T202342Z
UID:6903-1738603800-1738609200@save-our-youth.org
SUMMARY:SOY Youth Council Leadership Academy: Session #1
DESCRIPTION:
URL:https://save-our-youth.org/event/soy-youth-council-leadership-academy-session-1/
CATEGORIES:Student Events
ATTACH;FMTTYPE=image/png:https://save-our-youth.org/wp-content/uploads/2025/02/Screenshot-2025-02-03-at-11.45.41 AM.png
END:VEVENT
BEGIN:VEVENT
DTSTART;TZID=UTC:20250201T083000
DTEND;TZID=UTC:20250201T130000
DTSTAMP:20260423T165256
CREATED:20250110T213920Z
LAST-MODIFIED:20250110T213920Z
UID:6857-1738398600-1738414800@save-our-youth.org
SUMMARY:California State University\, Dominguez Hills Campus Tour
DESCRIPTION:
URL:https://save-our-youth.org/event/california-state-university-dominguez-hills-campus-tour/
CATEGORIES:Student Events
ATTACH;FMTTYPE=image/png:https://save-our-youth.org/wp-content/uploads/2025/01/Screenshot-2025-01-10-at-1.34.50 PM.png
END:VEVENT
BEGIN:VEVENT
DTSTART;TZID=UTC:20250130T180000
DTEND;TZID=UTC:20250130T193000
DTSTAMP:20260423T165256
CREATED:20250118T004534Z
LAST-MODIFIED:20250118T004534Z
UID:6889-1738260000-1738265400@save-our-youth.org
SUMMARY:Career Night - Education Panel
DESCRIPTION:
URL:https://save-our-youth.org/event/career-night-education-panel/
CATEGORIES:Student Events
ATTACH;FMTTYPE=image/png:https://save-our-youth.org/wp-content/uploads/2025/01/Screenshot-2025-01-17-at-4.44.39 PM.png
END:VEVENT
BEGIN:VEVENT
DTSTART;TZID=UTC:20250116T160000
DTEND;TZID=UTC:20250116T180000
DTSTAMP:20260423T165256
CREATED:20250110T213424Z
LAST-MODIFIED:20250110T213424Z
UID:6854-1737043200-1737050400@save-our-youth.org
SUMMARY:Mesa Water Education Center Tour
DESCRIPTION:
URL:https://save-our-youth.org/event/mesa-water-education-center-tour/
CATEGORIES:Student Events
ATTACH;FMTTYPE=image/png:https://save-our-youth.org/wp-content/uploads/2025/01/Screenshot-2025-01-10-at-1.33.09 PM.png
END:VEVENT
BEGIN:VEVENT
DTSTART;TZID=UTC:20250108T180000
DTEND;TZID=UTC:20250108T190000
DTSTAMP:20260423T165256
CREATED:20240906T002251Z
LAST-MODIFIED:20240906T002251Z
UID:6064-1736359200-1736362800@save-our-youth.org
SUMMARY:Financial Literacy: Non Saving Products
DESCRIPTION:
URL:https://save-our-youth.org/event/financial-literacy-non-saving-products/
CATEGORIES:Student Events
ATTACH;FMTTYPE=image/png:https://save-our-youth.org/wp-content/uploads/2024/09/Screenshot-2024-09-05-at-4.32.13 PM.png
END:VEVENT
BEGIN:VEVENT
DTSTART;TZID=UTC:20241204T180000
DTEND;TZID=UTC:20241204T190000
DTSTAMP:20260423T165256
CREATED:20240906T001736Z
LAST-MODIFIED:20241011T013522Z
UID:6060-1733335200-1733338800@save-our-youth.org
SUMMARY:Financial Literacy: Borrowing Basics
DESCRIPTION:
URL:https://save-our-youth.org/event/financial-literacy-borrowing-basics/
CATEGORIES:Student Events
ATTACH;FMTTYPE=image/png:https://save-our-youth.org/wp-content/uploads/2024/09/Screenshot-2024-09-05-at-4.32.13 PM.png
END:VEVENT
BEGIN:VEVENT
DTSTART;TZID=UTC:20241121T153000
DTEND;TZID=UTC:20241121T183000
DTSTAMP:20260423T165256
CREATED:20240829T185347Z
LAST-MODIFIED:20241105T200723Z
UID:6019-1732203000-1732213800@save-our-youth.org
SUMMARY:UCI College Tour
DESCRIPTION:
URL:https://save-our-youth.org/event/uci-college-tour/
CATEGORIES:Student Events
ATTACH;FMTTYPE=image/png:https://save-our-youth.org/wp-content/uploads/2024/08/UCI_Athletics_monogram_wbg_800x800-1-300x300-1.png
END:VEVENT
BEGIN:VEVENT
DTSTART;TZID=UTC:20241120T150000
DTEND;TZID=UTC:20241120T183000
DTSTAMP:20260423T165256
CREATED:20241025T182110Z
LAST-MODIFIED:20241025T182110Z
UID:6106-1732114800-1732127400@save-our-youth.org
SUMMARY:Orange Coast College Tour
DESCRIPTION:
URL:https://save-our-youth.org/event/orange-coast-college-tour/
CATEGORIES:Student Events
ATTACH;FMTTYPE=image/png:https://save-our-youth.org/wp-content/uploads/2024/10/Orange-Coast-CoastLogo.png
END:VEVENT
BEGIN:VEVENT
DTSTART;TZID=UTC:20241101T083000
DTEND;TZID=UTC:20241101T130000
DTSTAMP:20260423T165256
CREATED:20240829T185148Z
LAST-MODIFIED:20240829T185148Z
UID:6016-1730449800-1730466000@save-our-youth.org
SUMMARY:UCLA College Tour
DESCRIPTION:
URL:https://save-our-youth.org/event/ucla-college-tour/
CATEGORIES:Student Events
ATTACH;FMTTYPE=image/png:https://save-our-youth.org/wp-content/uploads/2024/08/UCLA_Bruins_logo.svg.png
END:VEVENT
BEGIN:VEVENT
DTSTART;TZID=UTC:20241028T170000
DTEND;TZID=UTC:20241028T190000
DTSTAMP:20260423T165256
CREATED:20241025T181430Z
LAST-MODIFIED:20241025T181430Z
UID:6102-1730134800-1730142000@save-our-youth.org
SUMMARY:Youth Council: Funday Monday - Halloween Party
DESCRIPTION:
URL:https://save-our-youth.org/event/youth-council-funday-monday-halloween-party/
CATEGORIES:Student Events
ATTACH;FMTTYPE=image/png:https://save-our-youth.org/wp-content/uploads/2024/10/Screenshot-2024-10-25-at-11.13.43 AM.png
END:VEVENT
BEGIN:VEVENT
DTSTART;TZID=UTC:20241024T183000
DTEND;TZID=UTC:20241024T193000
DTSTAMP:20260423T165256
CREATED:20241018T003126Z
LAST-MODIFIED:20241018T003133Z
UID:6098-1729794600-1729798200@save-our-youth.org
SUMMARY:Career Night: Night Law Panel
DESCRIPTION:
URL:https://save-our-youth.org/event/career-night-night-law-panel/
CATEGORIES:Student Events
ATTACH;FMTTYPE=image/png:https://save-our-youth.org/wp-content/uploads/2024/10/Screenshot-2024-10-17-at-5.09.59 PM.png
END:VEVENT
BEGIN:VEVENT
DTSTART;TZID=UTC:20241019T090000
DTEND;TZID=UTC:20241019T113000
DTSTAMP:20260423T165256
CREATED:20241011T013442Z
LAST-MODIFIED:20241011T013442Z
UID:6094-1729328400-1729337400@save-our-youth.org
SUMMARY:Teens Give Back: Fairview Park Restoration
DESCRIPTION:
URL:https://save-our-youth.org/event/teens-give-back-fairview-park-restoration/
CATEGORIES:Student Events
ATTACH;FMTTYPE=image/png:https://save-our-youth.org/wp-content/uploads/2024/10/Screenshot-2024-10-10-at-6.33.26 PM.png
END:VEVENT
BEGIN:VEVENT
DTSTART;TZID=UTC:20241019T083000
DTEND;TZID=UTC:20241019T130000
DTSTAMP:20260423T165256
CREATED:20240829T183811Z
LAST-MODIFIED:20240829T185040Z
UID:6013-1729326600-1729342800@save-our-youth.org
SUMMARY:UC Riverside College Tour
DESCRIPTION:
URL:https://save-our-youth.org/event/uc-riverside-college-tour/
CATEGORIES:Student Events
ATTACH;FMTTYPE=image/png:https://save-our-youth.org/wp-content/uploads/2024/08/UCR-Logo.png
END:VEVENT
BEGIN:VEVENT
DTSTART;TZID=UTC:20241018T180000
DTEND;TZID=UTC:20241018T210000
DTSTAMP:20260423T165256
CREATED:20241011T013123Z
LAST-MODIFIED:20241011T013123Z
UID:6091-1729274400-1729285200@save-our-youth.org
SUMMARY:Costa Mesa: Teen Spooktacular Pumpkin Palooza & Movie Night
DESCRIPTION:
URL:https://save-our-youth.org/event/costa-mesa-teen-spooktacular-pumpkin-palooza-movie-night/
CATEGORIES:Student Events
ATTACH;FMTTYPE=image/png:https://save-our-youth.org/wp-content/uploads/2024/10/Screenshot-2024-10-10-at-6.13.36 PM.png
END:VEVENT
BEGIN:VEVENT
DTSTART;TZID=UTC:20241016T180000
DTEND;TZID=UTC:20241016T203000
DTSTAMP:20260423T165256
CREATED:20241011T011214Z
LAST-MODIFIED:20241011T011214Z
UID:6088-1729101600-1729110600@save-our-youth.org
SUMMARY:NMUSD College & Career Fair
DESCRIPTION:
URL:https://save-our-youth.org/event/nmusd-college-career-fair/
CATEGORIES:Student Events
ATTACH;FMTTYPE=image/png:https://save-our-youth.org/wp-content/uploads/2024/10/Screenshot-2024-10-10-at-6.10.09 PM.png
END:VEVENT
BEGIN:VEVENT
DTSTART;TZID=UTC:20241014T160000
DTEND;TZID=UTC:20241120T173000
DTSTAMP:20260423T165256
CREATED:20241011T010616Z
LAST-MODIFIED:20241104T231640Z
UID:6085-1728921600-1732123800@save-our-youth.org
SUMMARY:Downtown City Pool: Swim Lessons
DESCRIPTION:
URL:https://save-our-youth.org/event/downtown-city-pool-swim-lessons/
CATEGORIES:Student Events
ATTACH;FMTTYPE=application/pdf:https://save-our-youth.org/wp-content/uploads/2024/10/Swim-Flyer-2.pdf
END:VEVENT
BEGIN:VEVENT
DTSTART;TZID=UTC:20241009T080000
DTEND;TZID=UTC:20241009T170000
DTSTAMP:20260423T165256
CREATED:20240906T001527Z
LAST-MODIFIED:20240906T001527Z
UID:6058-1728460800-1728493200@save-our-youth.org
SUMMARY:Financial Literacy: Your Financial Journey "Credit"
DESCRIPTION:
URL:https://save-our-youth.org/event/financial-literacy-your-financial-journey-credit-2/
CATEGORIES:Student Events
ATTACH;FMTTYPE=image/png:https://save-our-youth.org/wp-content/uploads/2024/09/Screenshot-2024-09-05-at-4.32.13 PM.png
END:VEVENT
BEGIN:VEVENT
DTSTART;TZID=UTC:20240928T080000
DTEND;TZID=UTC:20240928T100000
DTSTAMP:20260423T165256
CREATED:20240829T183046Z
LAST-MODIFIED:20240829T183535Z
UID:6007-1727510400-1727517600@save-our-youth.org
SUMMARY:Newport Ecological Reserve Hike
DESCRIPTION:
URL:https://save-our-youth.org/event/newport-ecological-reserve-hike/
CATEGORIES:Student Events
ATTACH;FMTTYPE=application/pdf:https://save-our-youth.org/wp-content/uploads/2024/08/Saturday-Hike-1.pdf
END:VEVENT
BEGIN:VEVENT
DTSTART;TZID=UTC:20240918T170000
DTEND;TZID=UTC:20240918T193000
DTSTAMP:20260423T165256
CREATED:20240823T232304Z
LAST-MODIFIED:20240912T042418Z
UID:5989-1726678800-1726687800@save-our-youth.org
SUMMARY:Back to SOY Night
DESCRIPTION:
URL:https://save-our-youth.org/event/back-to-soy-night/
CATEGORIES:Alumni/Parent Events,Student Events
ATTACH;FMTTYPE=image/png:https://save-our-youth.org/wp-content/uploads/2024/08/Screenshot-2024-08-23-at-4.11.37 PM.png
END:VEVENT
BEGIN:VEVENT
DTSTART;TZID=UTC:20240914T083000
DTEND;TZID=UTC:20240914T130000
DTSTAMP:20260423T165256
CREATED:20240829T183343Z
LAST-MODIFIED:20240829T214949Z
UID:6010-1726302600-1726318800@save-our-youth.org
SUMMARY:CSU Long Beach College Tour
DESCRIPTION:
URL:https://save-our-youth.org/event/csu-long-beach-tour-2/
CATEGORIES:Student Events
ATTACH;FMTTYPE=application/pdf:https://save-our-youth.org/wp-content/uploads/2024/08/CSULB-College-Tour-1.pdf
END:VEVENT
BEGIN:VEVENT
DTSTART;TZID=UTC:20240911T180000
DTEND;TZID=UTC:20240911T190000
DTSTAMP:20260423T165256
CREATED:20240906T001343Z
LAST-MODIFIED:20240906T001343Z
UID:6056-1726077600-1726081200@save-our-youth.org
SUMMARY:Financial Literacy: Your Financial Journey "Setting Goals"
DESCRIPTION:
URL:https://save-our-youth.org/event/financial-literacy-your-financial-journey-setting-goals/
CATEGORIES:Student Events
ATTACH;FMTTYPE=image/png:https://save-our-youth.org/wp-content/uploads/2024/09/Screenshot-2024-09-05-at-4.32.13 PM.png
END:VEVENT
BEGIN:VEVENT
DTSTART;TZID=UTC:20240909T173000
DTEND;TZID=UTC:20240909T190000
DTSTAMP:20260423T165256
CREATED:20240830T232413Z
LAST-MODIFIED:20240830T232413Z
UID:6037-1725903000-1725908400@save-our-youth.org
SUMMARY:Youth Council
DESCRIPTION:
URL:https://save-our-youth.org/event/youth-council/
CATEGORIES:Student Events
ATTACH;FMTTYPE=application/pdf:https://save-our-youth.org/wp-content/uploads/2024/08/Youth-Council-1.pdf
END:VEVENT
BEGIN:VEVENT
DTSTART;TZID=UTC:20240907T080000
DTEND;TZID=UTC:20240907T110000
DTSTAMP:20260423T165256
CREATED:20240829T185534Z
LAST-MODIFIED:20240829T191102Z
UID:6022-1725696000-1725706800@save-our-youth.org
SUMMARY:Surf Club - September
DESCRIPTION:
URL:https://save-our-youth.org/event/surf-club-september/
CATEGORIES:Student Events
ATTACH;FMTTYPE=application/pdf:https://save-our-youth.org/wp-content/uploads/2024/08/surf-club.pdf
END:VEVENT
BEGIN:VEVENT
DTSTART;TZID=UTC:20240905T183000
DTEND;TZID=UTC:20240905T193000
DTSTAMP:20260423T165256
CREATED:20240823T233430Z
LAST-MODIFIED:20240823T234751Z
UID:5991-1725561000-1725564600@save-our-youth.org
SUMMARY:Parent Meeting
DESCRIPTION:
URL:https://save-our-youth.org/event/parent-meeting/
CATEGORIES:Alumni/Parent Events,Student Events
ATTACH;FMTTYPE=image/png:https://save-our-youth.org/wp-content/uploads/2024/08/Screenshot-2024-08-23-at-4.28.58 PM.png
END:VEVENT
BEGIN:VEVENT
DTSTART;TZID=UTC:20240905T180000
DTEND;TZID=UTC:20240905T190000
DTSTAMP:20260423T165256
CREATED:20240906T001115Z
LAST-MODIFIED:20240906T001115Z
UID:6053-1725559200-1725562800@save-our-youth.org
SUMMARY:Financial Literacy: Your Financial Journey "Credit"
DESCRIPTION:
URL:https://save-our-youth.org/event/financial-literacy-your-financial-journey-credit/
CATEGORIES:Student Events
ATTACH;FMTTYPE=image/png:https://save-our-youth.org/wp-content/uploads/2024/09/Screenshot-2024-09-05-at-4.32.13 PM.png
END:VEVENT
END:VCALENDAR