BEGIN:VCALENDAR
VERSION:2.0
PRODID:-//SAVE OUR YOUTH - ECPv6.15.20//NONSGML v1.0//EN
CALSCALE:GREGORIAN
METHOD:PUBLISH
X-ORIGINAL-URL:https://save-our-youth.org
X-WR-CALDESC:Events for SAVE OUR YOUTH
REFRESH-INTERVAL;VALUE=DURATION:PT1H
X-Robots-Tag:noindex
X-PUBLISHED-TTL:PT1H
BEGIN:VTIMEZONE
TZID:UTC
BEGIN:STANDARD
TZOFFSETFROM:+0000
TZOFFSETTO:+0000
TZNAME:UTC
DTSTART:20230101T000000
END:STANDARD
END:VTIMEZONE
BEGIN:VEVENT
DTSTART;TZID=UTC:20240918T170000
DTEND;TZID=UTC:20240918T193000
DTSTAMP:20260423T203730
CREATED:20240823T232304Z
LAST-MODIFIED:20240912T042418Z
UID:5989-1726678800-1726687800@save-our-youth.org
SUMMARY:Back to SOY Night
DESCRIPTION:
URL:https://save-our-youth.org/event/back-to-soy-night/
CATEGORIES:Alumni/Parent Events,Student Events
ATTACH;FMTTYPE=image/png:https://save-our-youth.org/wp-content/uploads/2024/08/Screenshot-2024-08-23-at-4.11.37 PM.png
END:VEVENT
BEGIN:VEVENT
DTSTART;TZID=UTC:20240914T083000
DTEND;TZID=UTC:20240914T130000
DTSTAMP:20260423T203730
CREATED:20240829T183343Z
LAST-MODIFIED:20240829T214949Z
UID:6010-1726302600-1726318800@save-our-youth.org
SUMMARY:CSU Long Beach College Tour
DESCRIPTION:
URL:https://save-our-youth.org/event/csu-long-beach-tour-2/
CATEGORIES:Student Events
ATTACH;FMTTYPE=application/pdf:https://save-our-youth.org/wp-content/uploads/2024/08/CSULB-College-Tour-1.pdf
END:VEVENT
BEGIN:VEVENT
DTSTART;TZID=UTC:20240911T180000
DTEND;TZID=UTC:20240911T190000
DTSTAMP:20260423T203730
CREATED:20240906T001343Z
LAST-MODIFIED:20240906T001343Z
UID:6056-1726077600-1726081200@save-our-youth.org
SUMMARY:Financial Literacy: Your Financial Journey "Setting Goals"
DESCRIPTION:
URL:https://save-our-youth.org/event/financial-literacy-your-financial-journey-setting-goals/
CATEGORIES:Student Events
ATTACH;FMTTYPE=image/png:https://save-our-youth.org/wp-content/uploads/2024/09/Screenshot-2024-09-05-at-4.32.13 PM.png
END:VEVENT
BEGIN:VEVENT
DTSTART;TZID=UTC:20240909T173000
DTEND;TZID=UTC:20240909T190000
DTSTAMP:20260423T203730
CREATED:20240830T232413Z
LAST-MODIFIED:20240830T232413Z
UID:6037-1725903000-1725908400@save-our-youth.org
SUMMARY:Youth Council
DESCRIPTION:
URL:https://save-our-youth.org/event/youth-council/
CATEGORIES:Student Events
ATTACH;FMTTYPE=application/pdf:https://save-our-youth.org/wp-content/uploads/2024/08/Youth-Council-1.pdf
END:VEVENT
BEGIN:VEVENT
DTSTART;TZID=UTC:20240907T080000
DTEND;TZID=UTC:20240907T110000
DTSTAMP:20260423T203730
CREATED:20240829T185534Z
LAST-MODIFIED:20240829T191102Z
UID:6022-1725696000-1725706800@save-our-youth.org
SUMMARY:Surf Club - September
DESCRIPTION:
URL:https://save-our-youth.org/event/surf-club-september/
CATEGORIES:Student Events
ATTACH;FMTTYPE=application/pdf:https://save-our-youth.org/wp-content/uploads/2024/08/surf-club.pdf
END:VEVENT
BEGIN:VEVENT
DTSTART;TZID=UTC:20240905T183000
DTEND;TZID=UTC:20240905T193000
DTSTAMP:20260423T203730
CREATED:20240823T233430Z
LAST-MODIFIED:20240823T234751Z
UID:5991-1725561000-1725564600@save-our-youth.org
SUMMARY:Parent Meeting
DESCRIPTION:
URL:https://save-our-youth.org/event/parent-meeting/
CATEGORIES:Alumni/Parent Events,Student Events
ATTACH;FMTTYPE=image/png:https://save-our-youth.org/wp-content/uploads/2024/08/Screenshot-2024-08-23-at-4.28.58 PM.png
END:VEVENT
BEGIN:VEVENT
DTSTART;TZID=UTC:20240905T180000
DTEND;TZID=UTC:20240905T190000
DTSTAMP:20260423T203730
CREATED:20240906T001115Z
LAST-MODIFIED:20240906T001115Z
UID:6053-1725559200-1725562800@save-our-youth.org
SUMMARY:Financial Literacy: Your Financial Journey "Credit"
DESCRIPTION:
URL:https://save-our-youth.org/event/financial-literacy-your-financial-journey-credit/
CATEGORIES:Student Events
ATTACH;FMTTYPE=image/png:https://save-our-youth.org/wp-content/uploads/2024/09/Screenshot-2024-09-05-at-4.32.13 PM.png
END:VEVENT
BEGIN:VEVENT
DTSTART;TZID=UTC:20240904T180000
DTEND;TZID=UTC:20240904T190000
DTSTAMP:20260423T203730
CREATED:20240829T202752Z
LAST-MODIFIED:20240829T202752Z
UID:6025-1725472800-1725476400@save-our-youth.org
SUMMARY:College Bound Parent Meeting - Seniors
DESCRIPTION:
URL:https://save-our-youth.org/event/college-bound-parent-meeting-seniors/
CATEGORIES:Alumni/Parent Events,Student Events
ATTACH;FMTTYPE=application/pdf:https://save-our-youth.org/wp-content/uploads/2024/08/CB-PDF.pdf
END:VEVENT
BEGIN:VEVENT
DTSTART;TZID=UTC:20240903T180000
DTEND;TZID=UTC:20240903T190000
DTSTAMP:20260423T203730
CREATED:20240830T225639Z
LAST-MODIFIED:20240830T225639Z
UID:6029-1725386400-1725390000@save-our-youth.org
SUMMARY:SOY Girls - High School
DESCRIPTION:
URL:https://save-our-youth.org/event/soy-girls-high-school/
CATEGORIES:Student Events
ATTACH;FMTTYPE=application/pdf:https://save-our-youth.org/wp-content/uploads/2024/08/SOY-Girls-and-Boys-1.pdf
END:VEVENT
BEGIN:VEVENT
DTSTART;TZID=UTC:20240830T180000
DTEND;TZID=UTC:20240904T190000
DTSTAMP:20260423T203730
CREATED:20240830T231226Z
LAST-MODIFIED:20240830T231231Z
UID:6035-1725040800-1725476400@save-our-youth.org
SUMMARY:SOY Boys - High School
DESCRIPTION:
URL:https://save-our-youth.org/event/soy-boys-high-school/
CATEGORIES:Student Events
END:VEVENT
BEGIN:VEVENT
DTSTART;TZID=UTC:20240830T163000
DTEND;TZID=UTC:20240830T173000
DTSTAMP:20260423T203730
CREATED:20240830T230035Z
LAST-MODIFIED:20240830T230518Z
UID:6032-1725035400-1725039000@save-our-youth.org
SUMMARY:SOY Girls - Middle School
DESCRIPTION:
URL:https://save-our-youth.org/event/soy-girls-middle-school/
CATEGORIES:Student Events
ATTACH;FMTTYPE=application/pdf:https://save-our-youth.org/wp-content/uploads/2024/08/SOY-Girls-and-Boys-1-1.pdf
END:VEVENT
BEGIN:VEVENT
DTSTART;TZID=UTC:20240829T083000
DTEND;TZID=UTC:20240829T130000
DTSTAMP:20260423T203730
CREATED:20240829T182821Z
LAST-MODIFIED:20240829T182849Z
UID:6004-1724920200-1724936400@save-our-youth.org
SUMMARY:CSU Long Beach Tour
DESCRIPTION:
URL:https://save-our-youth.org/event/csu-long-beach-tour/
CATEGORIES:Student Events
ATTACH;FMTTYPE=application/pdf:https://save-our-youth.org/wp-content/uploads/2024/08/CSULB-College-Tour.pdf
END:VEVENT
BEGIN:VEVENT
DTSTART;TZID=UTC:20240819T080000
DTEND;TZID=UTC:20250605T170000
DTSTAMP:20260423T203730
CREATED:20240809T223653Z
LAST-MODIFIED:20240809T223653Z
UID:5978-1724054400-1749142800@save-our-youth.org
SUMMARY:SOY General Programming
DESCRIPTION:
URL:https://save-our-youth.org/event/soy-general-programming/
CATEGORIES:Student Events
ATTACH;FMTTYPE=application/pdf:https://save-our-youth.org/wp-content/uploads/2024/08/SOY-final-GENERAL-FLYER-2024-2025-.pdf
END:VEVENT
BEGIN:VEVENT
DTSTART;TZID=UTC:20240808T110000
DTEND;TZID=UTC:20240808T170000
DTSTAMP:20260423T203730
CREATED:20240612T175949Z
LAST-MODIFIED:20240612T180022Z
UID:5933-1723114800-1723136400@save-our-youth.org
SUMMARY:OC Fair
DESCRIPTION:
URL:https://save-our-youth.org/event/oc-fair/
CATEGORIES:Student Events
END:VEVENT
BEGIN:VEVENT
DTSTART;TZID=UTC:20240729T080000
DTEND;TZID=UTC:20240802T170000
DTSTAMP:20260423T203730
CREATED:20240612T180235Z
LAST-MODIFIED:20240612T180235Z
UID:5937-1722240000-1722618000@save-our-youth.org
SUMMARY:SOY Surf Camp
DESCRIPTION:
URL:https://save-our-youth.org/event/soy-surf-camp/
CATEGORIES:Student Events
END:VEVENT
BEGIN:VEVENT
DTSTART;TZID=UTC:20240722T123000
DTEND;TZID=UTC:20240726T170000
DTSTAMP:20260423T203730
CREATED:20240612T180333Z
LAST-MODIFIED:20240612T180333Z
UID:5939-1721651400-1722013200@save-our-youth.org
SUMMARY:Sail Camp
DESCRIPTION:
URL:https://save-our-youth.org/event/sail-camp/
CATEGORIES:Student Events
END:VEVENT
BEGIN:VEVENT
DTSTART;TZID=UTC:20240716T100000
DTEND;TZID=UTC:20240716T150000
DTSTAMP:20260423T203730
CREATED:20240612T175750Z
LAST-MODIFIED:20240612T180031Z
UID:5931-1721124000-1721142000@save-our-youth.org
SUMMARY:Knott's Soak City
DESCRIPTION:
URL:https://save-our-youth.org/event/knotts-soak-city/
CATEGORIES:Student Events
END:VEVENT
BEGIN:VEVENT
DTSTART;TZID=UTC:20240709T100000
DTEND;TZID=UTC:20240709T140000
DTSTAMP:20260423T203730
CREATED:20240612T175619Z
LAST-MODIFIED:20240612T180043Z
UID:5929-1720519200-1720533600@save-our-youth.org
SUMMARY:The Getty Museum
DESCRIPTION:
URL:https://save-our-youth.org/event/the-getty-museum/
CATEGORIES:Student Events
END:VEVENT
BEGIN:VEVENT
DTSTART;TZID=UTC:20240702T100000
DTEND;TZID=UTC:20240702T140000
DTSTAMP:20260423T203730
CREATED:20240612T175421Z
LAST-MODIFIED:20240612T175421Z
UID:5927-1719914400-1719928800@save-our-youth.org
SUMMARY:Hilbert Museum
DESCRIPTION:
URL:https://save-our-youth.org/event/hilbert-museum/
CATEGORIES:Student Events
END:VEVENT
BEGIN:VEVENT
DTSTART;TZID=UTC:20240626T110000
DTEND;TZID=UTC:20240626T170000
DTSTAMP:20260423T203730
CREATED:20240612T180130Z
LAST-MODIFIED:20240612T180130Z
UID:5935-1719399600-1719421200@save-our-youth.org
SUMMARY:Angel's Game
DESCRIPTION:
URL:https://save-our-youth.org/event/angels-game/
CATEGORIES:Student Events
END:VEVENT
BEGIN:VEVENT
DTSTART;TZID=UTC:20240625T080000
DTEND;TZID=UTC:20240625T120000
DTSTAMP:20260423T203730
CREATED:20240611T214810Z
LAST-MODIFIED:20240611T214810Z
UID:5918-1719302400-1719316800@save-our-youth.org
SUMMARY:Crystal Cove Hike
DESCRIPTION:
URL:https://save-our-youth.org/event/crystal-cove-hike/
CATEGORIES:Student Events
END:VEVENT
BEGIN:VEVENT
DTSTART;TZID=UTC:20240620T183000
DTEND;TZID=UTC:20240620T200000
DTSTAMP:20260423T203730
CREATED:20240612T180511Z
LAST-MODIFIED:20240612T180511Z
UID:5944-1718908200-1718913600@save-our-youth.org
SUMMARY:Graduating Seniors Financial Literacy #2
DESCRIPTION:
URL:https://save-our-youth.org/event/graduating-seniors-financial-literacy-2/
CATEGORIES:Student Events
END:VEVENT
BEGIN:VEVENT
DTSTART;TZID=UTC:20240619T153000
DTEND;TZID=UTC:20240619T170000
DTSTAMP:20260423T203730
CREATED:20240612T180433Z
LAST-MODIFIED:20240612T180433Z
UID:5941-1718811000-1718816400@save-our-youth.org
SUMMARY:Graduating Seniors Financial Literacy #1
DESCRIPTION:
URL:https://save-our-youth.org/event/graduating-seniors-financial-literacy-1/
CATEGORIES:Student Events
END:VEVENT
BEGIN:VEVENT
DTSTART;TZID=UTC:20240618T100000
DTEND;TZID=UTC:20240618T140000
DTSTAMP:20260423T203730
CREATED:20240611T214223Z
LAST-MODIFIED:20240611T214223Z
UID:5916-1718704800-1718719200@save-our-youth.org
SUMMARY:Bike to the Beach
DESCRIPTION:
URL:https://save-our-youth.org/event/bike-to-the-beach/
CATEGORIES:Student Events
END:VEVENT
BEGIN:VEVENT
DTSTART;TZID=UTC:20240617T080000
DTEND;TZID=UTC:20240809T170000
DTSTAMP:20260423T203730
CREATED:20240527T193425Z
LAST-MODIFIED:20240621T173653Z
UID:5891-1718611200-1723222800@save-our-youth.org
SUMMARY:SUMMER PROGRAM 2024
DESCRIPTION:
URL:https://save-our-youth.org/event/summer-program-2024/
CATEGORIES:Student Events
ATTACH;FMTTYPE=image/jpeg:https://save-our-youth.org/wp-content/uploads/2024/05/SOY-Summer-24-English-1.jpg
END:VEVENT
BEGIN:VEVENT
DTSTART;TZID=UTC:20240513T160000
DTEND;TZID=UTC:20240513T173000
DTSTAMP:20260423T203730
CREATED:20240506T195359Z
LAST-MODIFIED:20240506T195846Z
UID:5758-1715616000-1715621400@save-our-youth.org
SUMMARY:OCC Tour
DESCRIPTION:
URL:https://save-our-youth.org/event/occ-tour/
CATEGORIES:Student Events
ATTACH;FMTTYPE=application/pdf:https://save-our-youth.org/wp-content/uploads/2024/05/OCC-Tour-Flyer.pdf
END:VEVENT
BEGIN:VEVENT
DTSTART;TZID=UTC:20240427T140000
DTEND;TZID=UTC:20240427T170000
DTSTAMP:20260423T203730
CREATED:20240403T215827Z
LAST-MODIFIED:20240403T215913Z
UID:5639-1714226400-1714237200@save-our-youth.org
SUMMARY:City of Costa Mesa: Color Wars
DESCRIPTION:
URL:https://save-our-youth.org/event/city-of-costa-mesa-color-wars/
CATEGORIES:Student Events
ATTACH;FMTTYPE=application/pdf:https://save-our-youth.org/wp-content/uploads/2024/04/Costa-Mesa-Color-Wars.pdf
END:VEVENT
BEGIN:VEVENT
DTSTART;TZID=UTC:20240423T170000
DTEND;TZID=UTC:20240423T200000
DTSTAMP:20260423T203730
CREATED:20240403T214903Z
LAST-MODIFIED:20240403T214903Z
UID:5631-1713891600-1713902400@save-our-youth.org
SUMMARY:SOY Movie Night
DESCRIPTION:
URL:https://save-our-youth.org/event/soy-movie-night/
CATEGORIES:Student Events
ATTACH;FMTTYPE=application/pdf:https://save-our-youth.org/wp-content/uploads/2024/04/SOY-Movie-Night.pdf
END:VEVENT
BEGIN:VEVENT
DTSTART;TZID=UTC:20240417T180000
DTEND;TZID=UTC:20240424T200000
DTSTAMP:20260423T203730
CREATED:20240403T215159Z
LAST-MODIFIED:20240403T232939Z
UID:5635-1713376800-1713988800@save-our-youth.org
SUMMARY:SOY Girls: Horse Riding
DESCRIPTION:
URL:https://save-our-youth.org/event/soy-girls-bowling/
CATEGORIES:Student Events
ATTACH;FMTTYPE=application/pdf:https://save-our-youth.org/wp-content/uploads/2024/04/SOY-Girls-Calendar.pdf
END:VEVENT
BEGIN:VEVENT
DTSTART;TZID=UTC:20240408T080000
DTEND;TZID=UTC:20240412T200000
DTSTAMP:20260423T203730
CREATED:20240403T211031Z
LAST-MODIFIED:20240403T213643Z
UID:5623-1712563200-1712952000@save-our-youth.org
SUMMARY:SOY Northern California College Trip
DESCRIPTION:
URL:https://save-our-youth.org/event/soy-northern-california-college-trip/
CATEGORIES:Student Events
ATTACH;FMTTYPE=image/png:https://save-our-youth.org/wp-content/uploads/2024/04/Screenshot-2024-04-03-at-2.09.58 PM.png
END:VEVENT
END:VCALENDAR