BEGIN:VCALENDAR
VERSION:2.0
PRODID:-//SAVE OUR YOUTH - ECPv6.15.20//NONSGML v1.0//EN
CALSCALE:GREGORIAN
METHOD:PUBLISH
X-ORIGINAL-URL:https://save-our-youth.org
X-WR-CALDESC:Events for SAVE OUR YOUTH
REFRESH-INTERVAL;VALUE=DURATION:PT1H
X-Robots-Tag:noindex
X-PUBLISHED-TTL:PT1H
BEGIN:VTIMEZONE
TZID:UTC
BEGIN:STANDARD
TZOFFSETFROM:+0000
TZOFFSETTO:+0000
TZNAME:UTC
DTSTART:20230101T000000
END:STANDARD
END:VTIMEZONE
BEGIN:VEVENT
DTSTART;TZID=UTC:20240617T080000
DTEND;TZID=UTC:20240809T170000
DTSTAMP:20260424T002721
CREATED:20240527T193425Z
LAST-MODIFIED:20240621T173653Z
UID:5891-1718611200-1723222800@save-our-youth.org
SUMMARY:SUMMER PROGRAM 2024
DESCRIPTION:
URL:https://save-our-youth.org/event/summer-program-2024/
CATEGORIES:Student Events
ATTACH;FMTTYPE=image/jpeg:https://save-our-youth.org/wp-content/uploads/2024/05/SOY-Summer-24-English-1.jpg
END:VEVENT
BEGIN:VEVENT
DTSTART;TZID=UTC:20240513T160000
DTEND;TZID=UTC:20240513T173000
DTSTAMP:20260424T002721
CREATED:20240506T195359Z
LAST-MODIFIED:20240506T195846Z
UID:5758-1715616000-1715621400@save-our-youth.org
SUMMARY:OCC Tour
DESCRIPTION:
URL:https://save-our-youth.org/event/occ-tour/
CATEGORIES:Student Events
ATTACH;FMTTYPE=application/pdf:https://save-our-youth.org/wp-content/uploads/2024/05/OCC-Tour-Flyer.pdf
END:VEVENT
BEGIN:VEVENT
DTSTART;TZID=UTC:20240427T140000
DTEND;TZID=UTC:20240427T170000
DTSTAMP:20260424T002721
CREATED:20240403T215827Z
LAST-MODIFIED:20240403T215913Z
UID:5639-1714226400-1714237200@save-our-youth.org
SUMMARY:City of Costa Mesa: Color Wars
DESCRIPTION:
URL:https://save-our-youth.org/event/city-of-costa-mesa-color-wars/
CATEGORIES:Student Events
ATTACH;FMTTYPE=application/pdf:https://save-our-youth.org/wp-content/uploads/2024/04/Costa-Mesa-Color-Wars.pdf
END:VEVENT
BEGIN:VEVENT
DTSTART;TZID=UTC:20240423T170000
DTEND;TZID=UTC:20240423T200000
DTSTAMP:20260424T002721
CREATED:20240403T214903Z
LAST-MODIFIED:20240403T214903Z
UID:5631-1713891600-1713902400@save-our-youth.org
SUMMARY:SOY Movie Night
DESCRIPTION:
URL:https://save-our-youth.org/event/soy-movie-night/
CATEGORIES:Student Events
ATTACH;FMTTYPE=application/pdf:https://save-our-youth.org/wp-content/uploads/2024/04/SOY-Movie-Night.pdf
END:VEVENT
BEGIN:VEVENT
DTSTART;TZID=UTC:20240417T180000
DTEND;TZID=UTC:20240424T200000
DTSTAMP:20260424T002721
CREATED:20240403T215159Z
LAST-MODIFIED:20240403T232939Z
UID:5635-1713376800-1713988800@save-our-youth.org
SUMMARY:SOY Girls: Horse Riding
DESCRIPTION:
URL:https://save-our-youth.org/event/soy-girls-bowling/
CATEGORIES:Student Events
ATTACH;FMTTYPE=application/pdf:https://save-our-youth.org/wp-content/uploads/2024/04/SOY-Girls-Calendar.pdf
END:VEVENT
BEGIN:VEVENT
DTSTART;TZID=UTC:20240408T080000
DTEND;TZID=UTC:20240412T200000
DTSTAMP:20260424T002721
CREATED:20240403T211031Z
LAST-MODIFIED:20240403T213643Z
UID:5623-1712563200-1712952000@save-our-youth.org
SUMMARY:SOY Northern California College Trip
DESCRIPTION:
URL:https://save-our-youth.org/event/soy-northern-california-college-trip/
CATEGORIES:Student Events
ATTACH;FMTTYPE=image/png:https://save-our-youth.org/wp-content/uploads/2024/04/Screenshot-2024-04-03-at-2.09.58 PM.png
END:VEVENT
BEGIN:VEVENT
DTSTART;VALUE=DATE:20240329
DTEND;VALUE=DATE:20240330
DTSTAMP:20260424T002721
CREATED:20240302T181834Z
LAST-MODIFIED:20240302T181834Z
UID:5386-1711670400-1711756799@save-our-youth.org
SUMMARY:Soccer Tournament
DESCRIPTION:
URL:https://save-our-youth.org/event/soccer-tournament-2/
CATEGORIES:Student Events
ATTACH;FMTTYPE=image/png:https://save-our-youth.org/wp-content/uploads/2024/03/Soccer-tournament.png
END:VEVENT
BEGIN:VEVENT
DTSTART;VALUE=DATE:20240326
DTEND;VALUE=DATE:20240327
DTSTAMP:20260424T002721
CREATED:20240302T181804Z
LAST-MODIFIED:20240302T181804Z
UID:5384-1711411200-1711497599@save-our-youth.org
SUMMARY:12th grade College-Bound Meeting
DESCRIPTION:
URL:https://save-our-youth.org/event/12th-grade-college-bound-meeting/
CATEGORIES:Student Events
ATTACH;FMTTYPE=application/pdf:https://save-our-youth.org/wp-content/uploads/2024/03/SOY-MARCH-COLLEGE-BOUND-MEETING-2.pdf
END:VEVENT
BEGIN:VEVENT
DTSTART;VALUE=DATE:20240319
DTEND;VALUE=DATE:20240320
DTSTAMP:20260424T002721
CREATED:20240302T181643Z
LAST-MODIFIED:20240302T181643Z
UID:5380-1710806400-1710892799@save-our-youth.org
SUMMARY:10th & 11th grade College-Bound Meeting
DESCRIPTION:
URL:https://save-our-youth.org/event/10th-11th-grade-college-bound-meeting/
CATEGORIES:Student Events
ATTACH;FMTTYPE=application/pdf:https://save-our-youth.org/wp-content/uploads/2024/03/SOY-MARCH-COLLEGE-BOUND-MEETING-2.pdf
END:VEVENT
BEGIN:VEVENT
DTSTART;VALUE=DATE:20240316
DTEND;VALUE=DATE:20240317
DTSTAMP:20260424T002721
CREATED:20240302T165649Z
LAST-MODIFIED:20240302T165649Z
UID:5377-1710547200-1710633599@save-our-youth.org
SUMMARY:College Tour to CSU San Marcos
DESCRIPTION:
URL:https://save-our-youth.org/event/college-tour-to-csu-san-marcos/
CATEGORIES:Student Events
ATTACH;FMTTYPE=application/pdf:https://save-our-youth.org/wp-content/uploads/2024/03/CSU-San-Marcos.pdf
END:VEVENT
BEGIN:VEVENT
DTSTART;VALUE=DATE:20240315
DTEND;VALUE=DATE:20240316
DTSTAMP:20260424T002721
CREATED:20240302T165510Z
LAST-MODIFIED:20240302T165510Z
UID:5375-1710460800-1710547199@save-our-youth.org
SUMMARY:Swim lessons at the YMCA
DESCRIPTION:
URL:https://save-our-youth.org/event/swim-lessons-at-the-ymca-2/
CATEGORIES:Student Events
ATTACH;FMTTYPE=application/pdf:https://save-our-youth.org/wp-content/uploads/2024/03/SOY-Swim-Lessons-at-Y.pdf
END:VEVENT
BEGIN:VEVENT
DTSTART;VALUE=DATE:20240312
DTEND;VALUE=DATE:20240313
DTSTAMP:20260424T002721
CREATED:20240302T165437Z
LAST-MODIFIED:20240309T193850Z
UID:5372-1710201600-1710287999@save-our-youth.org
SUMMARY:8th & 9th grade UCI LifeVest College-Bound Meeting
DESCRIPTION:
URL:https://save-our-youth.org/event/8th-9th-grade-uci-lifevest-college-bound-meeting/
CATEGORIES:Student Events
ATTACH;FMTTYPE=application/pdf:https://save-our-youth.org/wp-content/uploads/2024/03/SOYS-UCI-LIFEVEST-WORKSHOP-1-1.pdf
END:VEVENT
BEGIN:VEVENT
DTSTART;VALUE=DATE:20240308
DTEND;VALUE=DATE:20240309
DTSTAMP:20260424T002721
CREATED:20240302T165306Z
LAST-MODIFIED:20240302T165306Z
UID:5369-1709856000-1709942399@save-our-youth.org
SUMMARY:Soccer Tournament
DESCRIPTION:
URL:https://save-our-youth.org/event/soccer-tournament/
CATEGORIES:Student Events
ATTACH;FMTTYPE=image/png:https://save-our-youth.org/wp-content/uploads/2024/03/Soccer-tournament.png
END:VEVENT
BEGIN:VEVENT
DTSTART;VALUE=DATE:20240305
DTEND;VALUE=DATE:20240306
DTSTAMP:20260424T002721
CREATED:20240302T165126Z
LAST-MODIFIED:20240302T165126Z
UID:5366-1709596800-1709683199@save-our-youth.org
SUMMARY:7th grade College-Bound Meeting
DESCRIPTION:
URL:https://save-our-youth.org/event/7th-grade-college-bound-meeting/
CATEGORIES:Student Events
ATTACH;FMTTYPE=application/pdf:https://save-our-youth.org/wp-content/uploads/2024/03/SOY-MARCH-COLLEGE-BOUND-MEETING-2.pdf
END:VEVENT
BEGIN:VEVENT
DTSTART;VALUE=DATE:20240301
DTEND;VALUE=DATE:20240302
DTSTAMP:20260424T002721
CREATED:20240302T164655Z
LAST-MODIFIED:20240302T164655Z
UID:5363-1709251200-1709337599@save-our-youth.org
SUMMARY:Swim lessons at the YMCA
DESCRIPTION:
URL:https://save-our-youth.org/event/swim-lessons-at-the-ymca/
CATEGORIES:Student Events
ATTACH;FMTTYPE=application/pdf:https://save-our-youth.org/wp-content/uploads/2024/03/SOY-Swim-Lessons-at-Y.pdf
END:VEVENT
BEGIN:VEVENT
DTSTART;VALUE=DATE:20240229
DTEND;VALUE=DATE:20240301
DTSTAMP:20260424T002721
CREATED:20240214T191025Z
LAST-MODIFIED:20240214T191025Z
UID:4869-1709164800-1709251199@save-our-youth.org
SUMMARY:Career Night Speaker: Environmental
DESCRIPTION:
URL:https://save-our-youth.org/event/career-night-speaker-environmental/
CATEGORIES:Student Events
ATTACH;FMTTYPE=application/pdf:https://save-our-youth.org/wp-content/uploads/2024/02/February-Career-Night.pdf
END:VEVENT
BEGIN:VEVENT
DTSTART;VALUE=DATE:20240226
DTEND;VALUE=DATE:20240227
DTSTAMP:20260424T002721
CREATED:20240214T190913Z
LAST-MODIFIED:20240214T190913Z
UID:4866-1708905600-1708991999@save-our-youth.org
SUMMARY:CMPD & Youth Council Bike Registration
DESCRIPTION:
URL:https://save-our-youth.org/event/cmpd-youth-council-bike-registration/
CATEGORIES:Student Events
ATTACH;FMTTYPE=image/png:https://save-our-youth.org/wp-content/uploads/2024/02/Bike-Etching.png
END:VEVENT
BEGIN:VEVENT
DTSTART;VALUE=DATE:20240224
DTEND;VALUE=DATE:20240225
DTSTAMP:20260424T002721
CREATED:20240214T190614Z
LAST-MODIFIED:20240214T190614Z
UID:4864-1708732800-1708819199@save-our-youth.org
SUMMARY:Hike at Turtle Rock
DESCRIPTION:
URL:https://save-our-youth.org/event/hike-at-turtle-rock/
CATEGORIES:Student Events
ATTACH;FMTTYPE=application/pdf:https://save-our-youth.org/wp-content/uploads/2024/02/SOY-Pres-Week.pdf
END:VEVENT
BEGIN:VEVENT
DTSTART;VALUE=DATE:20240223
DTEND;VALUE=DATE:20240224
DTSTAMP:20260424T002721
CREATED:20240214T190334Z
LAST-MODIFIED:20240214T190436Z
UID:4856-1708646400-1708732799@save-our-youth.org
SUMMARY:CSU San Bernardino College Tour
DESCRIPTION:
URL:https://save-our-youth.org/event/csu-dominguez-hills-college-tour/
CATEGORIES:Student Events
ATTACH;FMTTYPE=application/pdf:https://save-our-youth.org/wp-content/uploads/2024/02/SOY-Pres-Week.pdf
END:VEVENT
BEGIN:VEVENT
DTSTART;VALUE=DATE:20240221
DTEND;VALUE=DATE:20240222
DTSTAMP:20260424T002721
CREATED:20240214T190311Z
LAST-MODIFIED:20240214T190311Z
UID:4857-1708473600-1708559999@save-our-youth.org
SUMMARY:City Hall Leadership Trip
DESCRIPTION:
URL:https://save-our-youth.org/event/city-hall-leadership-trip/
CATEGORIES:Student Events
ATTACH;FMTTYPE=application/pdf:https://save-our-youth.org/wp-content/uploads/2024/02/SOY-Pres-Week.pdf
END:VEVENT
BEGIN:VEVENT
DTSTART;VALUE=DATE:20240220
DTEND;VALUE=DATE:20240221
DTSTAMP:20260424T002721
CREATED:20240214T190012Z
LAST-MODIFIED:20240214T190118Z
UID:4853-1708387200-1708473599@save-our-youth.org
SUMMARY:Second Harvest Food Bank Community Service
DESCRIPTION:
URL:https://save-our-youth.org/event/second-harvest-food-bank-community-service/
CATEGORIES:Student Events
ATTACH;FMTTYPE=application/pdf:https://save-our-youth.org/wp-content/uploads/2024/02/SOY-Pres-Week.pdf
END:VEVENT
BEGIN:VEVENT
DTSTART;VALUE=DATE:20240125
DTEND;VALUE=DATE:20240126
DTSTAMP:20260424T002721
CREATED:20231206T161013Z
LAST-MODIFIED:20240125T054845Z
UID:2024-1706140800-1706227199@save-our-youth.org
SUMMARY:Engineering Career Night
DESCRIPTION:Are you interested in a career in structural or civil\nengineering? Join us at our January Career Night!
URL:https://save-our-youth.org/event/engineering-career-night/
CATEGORIES:Student Events
ATTACH;FMTTYPE=application/pdf:https://save-our-youth.org/wp-content/uploads/2023/12/January-Career-Night.pdf
END:VEVENT
END:VCALENDAR